BEGIN:VCALENDAR
VERSION:2.0
PRODID:-//Tortoise Group - ECPv6.15.17.1//NONSGML v1.0//EN
CALSCALE:GREGORIAN
METHOD:PUBLISH
X-WR-CALNAME:Tortoise Group
X-ORIGINAL-URL:https://tortoisegroup.org
X-WR-CALDESC:Events for Tortoise Group
REFRESH-INTERVAL;VALUE=DURATION:PT1H
X-Robots-Tag:noindex
X-PUBLISHED-TTL:PT1H
BEGIN:VTIMEZONE
TZID:America/Los_Angeles
BEGIN:DAYLIGHT
TZOFFSETFROM:-0800
TZOFFSETTO:-0700
TZNAME:PDT
DTSTART:20230312T100000
END:DAYLIGHT
BEGIN:STANDARD
TZOFFSETFROM:-0700
TZOFFSETTO:-0800
TZNAME:PST
DTSTART:20231105T090000
END:STANDARD
BEGIN:DAYLIGHT
TZOFFSETFROM:-0800
TZOFFSETTO:-0700
TZNAME:PDT
DTSTART:20240310T100000
END:DAYLIGHT
BEGIN:STANDARD
TZOFFSETFROM:-0700
TZOFFSETTO:-0800
TZNAME:PST
DTSTART:20241103T090000
END:STANDARD
BEGIN:DAYLIGHT
TZOFFSETFROM:-0800
TZOFFSETTO:-0700
TZNAME:PDT
DTSTART:20250309T100000
END:DAYLIGHT
BEGIN:STANDARD
TZOFFSETFROM:-0700
TZOFFSETTO:-0800
TZNAME:PST
DTSTART:20251102T090000
END:STANDARD
BEGIN:DAYLIGHT
TZOFFSETFROM:-0800
TZOFFSETTO:-0700
TZNAME:PDT
DTSTART:20260308T100000
END:DAYLIGHT
BEGIN:STANDARD
TZOFFSETFROM:-0700
TZOFFSETTO:-0800
TZNAME:PST
DTSTART:20261101T090000
END:STANDARD
BEGIN:DAYLIGHT
TZOFFSETFROM:-0800
TZOFFSETTO:-0700
TZNAME:PDT
DTSTART:20270314T100000
END:DAYLIGHT
BEGIN:STANDARD
TZOFFSETFROM:-0700
TZOFFSETTO:-0800
TZNAME:PST
DTSTART:20271107T090000
END:STANDARD
BEGIN:DAYLIGHT
TZOFFSETFROM:-0800
TZOFFSETTO:-0700
TZNAME:PDT
DTSTART:20280312T100000
END:DAYLIGHT
BEGIN:STANDARD
TZOFFSETFROM:-0700
TZOFFSETTO:-0800
TZNAME:PST
DTSTART:20281105T090000
END:STANDARD
END:VTIMEZONE
BEGIN:VEVENT
DTSTART;VALUE=DATE:20240201
DTEND;VALUE=DATE:20270401
DTSTAMP:20260420T105231
CREATED:20201124T173439Z
LAST-MODIFIED:20250623T171708Z
UID:1208-1706745600-1806537599@tortoisegroup.org
SUMMARY:Prerecorded Online Desert Tortoise Adoption Workshop
DESCRIPTION:Before you begin preparing your habitat and burrow for a Mojave Tortoise\, you MUST watch the following presentation.    After watching this video\, residents of Southern Nevada should contact CharlesBorn@tortoisegroup.org with any questions and to work with him on the approval and adoption process.     Residents of Northern Nevada should also contact Charles at the email above for specific requirements for the colder climate and details on the adoption process for your region. \nAdoption Presentation \nPDF of Above Presentation \n 
URL:https://tortoisegroup.org/event/online-desert-tortoise-adoption-workshop-getting-ready-for-spring-3/
ATTACH;FMTTYPE=image/jpeg:https://tortoisegroup.org/wp-content/uploads/2017/02/growboards.jpg
END:VEVENT
BEGIN:VEVENT
DTSTART;TZID=America/Los_Angeles:20240817T100000
DTEND;TZID=America/Los_Angeles:20240817T140000
DTSTAMP:20260420T105231
CREATED:20210910T184322Z
LAST-MODIFIED:20240809T175355Z
UID:1302-1723888800-1723903200@tortoisegroup.org
SUMMARY:Microchipping and Wellness Clinic
DESCRIPTION:Bring your pet tortoise for a free wellness check and microchip! \nTortoise Group will welcome walk-ins upon availability. Priority will be given to scheduled appointments. \nSchedule your appointment at https://tortoisegroup.setmore.com \nThe clinic will be held at: \n6565 Spencer St Suite 209\nLas Vegas\, NV 89119\n(Main signage says Skyview Terrace)\nThere are two dates at the same location available. Please be sure to note what date you are booking an appointment for. If you need to cancel an appointment at any point\, please email info@tortoisegroup.org. \nPlease ensure you are able to bring your tortoise into the clinic by collecting them the day prior and keeping them in a bin/ guest bathroom/ laundry room overnight. Tortoises may be transported in a box or a bin to the clinic\, keeping in mind they often will void when being transported. Tortoises are to remain in their transport bins/boxes at the clinic to limit disease from tortoise to tortoise. \nMicrochips are administered by request to tortoises of appropriate size (~8″ in shell length). Tortoises under this size are still able to receive a wellness exam.
URL:https://tortoisegroup.org/event/microchipping-and-wellness-clinic-2/
LOCATION:Skyview Terrace\, 6565 Spencer St. Suite 209\, Las Vegas\, 89119\, United States
END:VEVENT
BEGIN:VEVENT
DTSTART;TZID=America/Los_Angeles:20240824T100000
DTEND;TZID=America/Los_Angeles:20240824T110000
DTSTAMP:20260420T105231
CREATED:20200825T214457Z
LAST-MODIFIED:20240223T210726Z
UID:1187-1724493600-1724497200@tortoisegroup.org
SUMMARY:Tortoise Group General Meeting
DESCRIPTION:Join us as we discuss seasonal behavior and tortoise tips! This meeting will be hybrid\, so you have the option to attend in person or join us virtually! The in-person meeting will be held at our office inside Big Brothers Big Sisters (624 S. 10th St. Las Vegas NV 89101). \nTo join us virtually for the General Meeting\, you will need to download the Zoom app on your phone or computer. \n  \nJoin Zoom Meeting https://us02web.zoom.us/j/3103261410 \nMeeting ID: 310 326 1410 \n  \nOne tap mobile +12532158782\,\,3103261410# US (Tacoma) +13462487799\,\,3103261410# US (Houston) Dial by your location +1 253 215 8782 US (Tacoma) +1 346 248 7799 US (Houston) +1 669 900 6833 US (San Jose) +1 301 715 8592 US (Washington DC) +1 312 626 6799 US (Chicago) +1 929 436 2866 US (New York) Meeting ID: 310 326 1410 Find your local number: https://us02web.zoom.us/u/kdtOdrzukd
URL:https://tortoisegroup.org/event/virtual-tortoise-group-general-meeting/
LOCATION:Big Brothers Big Sisters Office\, 624 S. 10th St.\, Las Vegas\, NV\, 89101\, United States
END:VEVENT
END:VCALENDAR